BEGIN:VCALENDAR
VERSION:2.0
PRODID:-//Squarespace Inc/Squarespace 6//v6//EN
BEGIN:VEVENT
UID:5d6048743b85230001c1fb1a@squarespace.com
DTSTAMP:20190923T012251Z
DTSTART:20200710T200000Z
DTEND:20200718T103000Z
SUMMARY:World Symposium on Choral Music 2020
GEO:-36.84846;174.763332
LOCATION:Auckland town hall\, Auckland
END:VEVENT
END:VCALENDAR
