BEGIN:VCALENDAR
VERSION:2.0
PRODID:-//Squarespace Inc/Squarespace 6//v6//EN
BEGIN:VEVENT
UID:5d88275247101b6c86b7aa4e@squarespace.com
DTSTAMP:20190923T021037Z
DTSTART:20191005T070000Z
DTEND:20191006T063000Z
SUMMARY:Witi's Wahine
GEO:-38.662334;178.017649
LOCATION:lawson field theatre\, gisborne\, new zealand
END:VEVENT
END:VCALENDAR
