BEGIN:VCALENDAR
VERSION:2.0
PRODID:-//Squarespace Inc/Squarespace 6//v6//EN
BEGIN:VEVENT
UID:5dcceef7529cfd5921218679@squarespace.com
DTSTAMP:20191207T195711Z
DTSTART:20200211T063000Z
DTEND:20200411T103000Z
SUMMARY:Winding Up by Roger Hall
GEO:-36.838567;174.890671
LOCATION:asb waterfront theatre\, Wynyard Quarter\, Auckland\, Auckland\, N
 ew Zealand
END:VEVENT
END:VCALENDAR
