BEGIN:VCALENDAR
VERSION:2.0
PRODID:-//Squarespace Inc/Squarespace 6//v6//EN
BEGIN:VEVENT
UID:5dec0217ac43c868ac1bb568@squarespace.com
DTSTAMP:20191207T195655Z
DTSTART:20200908T080000Z
DTEND:20200927T100000Z
SUMMARY:By the Way\, Meet Vera Stark
GEO:-36.838567;174.890671
LOCATION:asb waterfront theatre\, Wynyard Quarter\, Auckland\, Auckland\, N
 ew Zealand
END:VEVENT
END:VCALENDAR
