BEGIN:VCALENDAR
VERSION:2.0
PRODID:-//Squarespace Inc/Squarespace 6//v6//EN
BEGIN:VEVENT
UID:5bd62fbda4222f4430a51250@squarespace.com
DTSTAMP:20190509T221605Z
DTSTART:20190322T000000Z
DTEND:20190325T023000Z
SUMMARY:Ulster American
GEO:-36.842316;174.757851
LOCATION:ASB Waterfront Theatre\, Cnr Halsey and Madden Sts\, Wynyard Quart
 er\, Auckland
END:VEVENT
END:VCALENDAR
