BEGIN:VCALENDAR
VERSION:2.0
PRODID:-//Squarespace Inc/Squarespace 6//v6//EN
BEGIN:VEVENT
UID:5bcfee900d929757ea481168@squarespace.com
DTSTAMP:20190510T204404Z
DTSTART:20190323T233000Z
DTEND:20190324T013000Z
SUMMARY:Turangalîla Symphony
END:VEVENT
END:VCALENDAR
