BEGIN:VCALENDAR
VERSION:2.0
PRODID:-//Squarespace Inc/Squarespace 6//v6//EN
BEGIN:VEVENT
UID:5bd64d11ec212d4d880c3a41@squarespace.com
DTSTAMP:20190509T221436Z
DTSTART:20190317T000000Z
DTEND:20190317T023000Z
SUMMARY:Toku Reo Waiata
GEO:-36.85293;174.763326
LOCATION:Great Hall\, Auckland Town Hall\, Auckland\, New Zealand
END:VEVENT
END:VCALENDAR
