BEGIN:VCALENDAR
VERSION:2.0
PRODID:-//Squarespace Inc/Squarespace 6//v6//EN
BEGIN:VEVENT
UID:5be08666aa4a995b1fcf1cf8@squarespace.com
DTSTAMP:20181105T182754Z
DTSTART:20180921T200000Z
DTEND:20180921T223000Z
SUMMARY:Tauranga International Marathon 2017 &amp\; 2018
GEO:-37.687797;176.16513
LOCATION:The Strand\, tauranga
END:VEVENT
END:VCALENDAR
