BEGIN:VCALENDAR
VERSION:2.0
PRODID:-//Squarespace Inc/Squarespace 6//v6//EN
BEGIN:VEVENT
UID:5bbd70721905f4346f61d8ad@squarespace.com
DTSTAMP:20190509T221140Z
DTSTART:20190302T003000Z
DTEND:20190304T033000Z
SUMMARY:The Magic Flute
END:VEVENT
END:VCALENDAR
