BEGIN:VCALENDAR
VERSION:2.0
PRODID:-//Squarespace Inc/Squarespace 6//v6//EN
BEGIN:VEVENT
UID:5bd65583e2c48350880bc106@squarespace.com
DTSTAMP:20190510T203705Z
DTSTART:20190509T000000Z
DTEND:20190524T023000Z
SUMMARY:The Audience
GEO:-36.842316;174.757851
LOCATION:ASB Waterfront Theatre\, Cnr Halsey and Madden Sts\, Wynyard Quart
 er\, Auckland
END:VEVENT
END:VCALENDAR
