BEGIN:VCALENDAR
VERSION:2.0
PRODID:-//Squarespace Inc/Squarespace 6//v6//EN
BEGIN:VEVENT
UID:5bd63918a4222f4430a5709a@squarespace.com
DTSTAMP:20190509T221523Z
DTSTART:20190321T233000Z
DTEND:20190325T020000Z
SUMMARY:The Dreamer
GEO:-36.851036;174.763904
LOCATION:The Civic\, Auckland\, New Zealand
END:VEVENT
END:VCALENDAR
