BEGIN:VCALENDAR
VERSION:2.0
PRODID:-//Squarespace Inc/Squarespace 6//v6//EN
BEGIN:VEVENT
UID:5c8ed831971a1808b49259a8@squarespace.com
DTSTAMP:20190923T012328Z
DTSTART:20191003T233000Z
DTEND:20191020T090000Z
SUMMARY:Te Tairāwhiti Arts Festival
GEO:-38.662334;178.017649
LOCATION:gisborne\, new zealand
END:VEVENT
END:VCALENDAR
