BEGIN:VCALENDAR
VERSION:2.0
PRODID:-//Squarespace Inc/Squarespace 6//v6//EN
BEGIN:VEVENT
UID:5d8829fa1d47f936915c9d81@squarespace.com
DTSTAMP:20191114T060631Z
DTSTART:20191005T070000Z
DTEND:20191031T103000Z
SUMMARY:Show Me Shorts Film Festival 2019
GEO:-36.852763;174.763471
LOCATION:ASB Waterfront Theatre\, Wynyard Quarter\, Auckland
END:VEVENT
END:VCALENDAR
