BEGIN:VCALENDAR
VERSION:2.0
PRODID:-//Squarespace Inc/Squarespace 6//v6//EN
BEGIN:VEVENT
UID:5bd65c6b419202dce273b09d@squarespace.com
DTSTAMP:20190610T033010Z
DTSTART:20190814T080000Z
DTEND:20190829T103000Z
SUMMARY:Six Degrees of Separation
GEO:-36.852763;174.763471
LOCATION:ASB Waterfront Theatre\, Wynyard Quarter\, Auckland
END:VEVENT
END:VCALENDAR
