BEGIN:VCALENDAR
VERSION:2.0
PRODID:-//Squarespace Inc/Squarespace 6//v6//EN
BEGIN:VEVENT
UID:5bcfedbe15fcc0bbd4b40a67@squarespace.com
DTSTAMP:20190510T210325Z
DTSTART:20190315T000000Z
DTEND:20190315T023000Z
SUMMARY:Silkroad Ensemble
END:VEVENT
END:VCALENDAR
