BEGIN:VCALENDAR
VERSION:2.0
PRODID:-//Squarespace Inc/Squarespace 6//v6//EN
BEGIN:VEVENT
UID:5bbd5f0df9619ab4c035f863@squarespace.com
DTSTAMP:20190510T210739Z
DTSTART:20181118T023000Z
DTEND:20181210T033000Z
SUMMARY:Shortland Street - The Musical
END:VEVENT
END:VCALENDAR
