BEGIN:VCALENDAR
VERSION:2.0
PRODID:-//Squarespace Inc/Squarespace 6//v6//EN
BEGIN:VEVENT
UID:5bd65dd5e5e5f0d5017462b1@squarespace.com
DTSTAMP:20190923T012753Z
DTSTART:20190911T080000Z
DTEND:20190926T113000Z
SUMMARY:Rosencrantz and Guildenstern are Dead
GEO:-36.852763;174.763471
LOCATION:ASB Waterfront Theatre\, Wynyard Quarter\, Auckland
END:VEVENT
END:VCALENDAR
