BEGIN:VCALENDAR
VERSION:2.0
PRODID:-//Squarespace Inc/Squarespace 6//v6//EN
BEGIN:VEVENT
UID:5bd8d909f950b7e10b58e5da@squarespace.com
DTSTAMP:20190509T221223Z
DTSTART:20190312T073000Z
DTEND:20190312T103000Z
SUMMARY:Rhye
GEO:-36.84846;174.763332
LOCATION:Aotea Square\, Auckland
END:VEVENT
END:VCALENDAR
