BEGIN:VCALENDAR
VERSION:2.0
PRODID:-//Squarespace Inc/Squarespace 6//v6//EN
BEGIN:VEVENT
UID:5d8822bc68af88237839f376@squarespace.com
DTSTAMP:20190923T014607Z
DTSTART:20191018T060000Z
DTEND:20191019T093000Z
SUMMARY:Respect
GEO:-38.662334;178.017649
LOCATION:war memorial theatre\, gisborne\, new zealand
END:VEVENT
END:VCALENDAR
