BEGIN:VCALENDAR
VERSION:2.0
PRODID:-//Squarespace Inc/Squarespace 6//v6//EN
BEGIN:VEVENT
UID:5bd8ae50575d1fa44bd46fe6@squarespace.com
DTSTAMP:20181030T202346Z
DTSTART:20180918T080000Z
DTEND:20181003T093000Z
SUMMARY:Rendered
GEO:-36.842316;174.757851
LOCATION:ASB Waterfront Theatre\, Cnr Halsey and Madden Sts\, Wynyard Quart
 er\, Auckland
END:VEVENT
END:VCALENDAR
