BEGIN:VCALENDAR
VERSION:2.0
PRODID:-//Squarespace Inc/Squarespace 6//v6//EN
BEGIN:VEVENT
UID:5c8ea66b7817f775cf435eaa@squarespace.com
DTSTAMP:20190317T201134Z
DTSTART:20190516T080000Z
DTEND:20190518T103000Z
SUMMARY:Rants in the Dark
GEO:-36.783558;174.773023
LOCATION:Bruce Mason Centre
END:VEVENT
END:VCALENDAR
