BEGIN:VCALENDAR
VERSION:2.0
PRODID:-//Squarespace Inc/Squarespace 6//v6//EN
BEGIN:VEVENT
UID:5c184b870e2e724de1660c13@squarespace.com
DTSTAMP:20190318T045759Z
DTSTART:20190522T073000Z
DTEND:20190523T100000Z
SUMMARY:Planet Earth II Live in Concert
GEO:-36.852344;174.763146
LOCATION:ASB Theatre\, Aotea Square
END:VEVENT
END:VCALENDAR
