BEGIN:VCALENDAR
VERSION:2.0
PRODID:-//Squarespace Inc/Squarespace 6//v6//EN
BEGIN:VEVENT
UID:5cfdccc268875a00015bc714@squarespace.com
DTSTAMP:20190610T032750Z
DTSTART:20190720T230000Z
DTEND:20190721T043000Z
SUMMARY:Peter &amp\; The Wolf Live
GEO:-36.84846;174.763332
LOCATION:ASB theatre\, aotea Square\, Auckland
END:VEVENT
END:VCALENDAR
