BEGIN:VCALENDAR
VERSION:2.0
PRODID:-//Squarespace Inc/Squarespace 6//v6//EN
BEGIN:VEVENT
UID:5c480b15c74c5023692cfaf1@squarespace.com
DTSTAMP:20190610T033317Z
DTSTART:20190611T080000Z
DTEND:20190611T103000Z
SUMMARY:The NZ Mix Tape
GEO:-36.84846;174.763332
LOCATION:The Civic\, Auckland
END:VEVENT
END:VCALENDAR
