BEGIN:VCALENDAR
VERSION:2.0
PRODID:-//Squarespace Inc/Squarespace 6//v6//EN
BEGIN:VEVENT
UID:5cb38e0f8165f55d35db8d11@squarespace.com
DTSTAMP:20190414T195015Z
DTSTART:20190524T213000Z
DTEND:20190524T230000Z
SUMMARY:Nanam X The Cult Project
GEO:-36.787923;174.768821
LOCATION:nanam\, takapuna\, Auckland\, new zealand
END:VEVENT
END:VCALENDAR
