BEGIN:VCALENDAR
VERSION:2.0
PRODID:-//Squarespace Inc/Squarespace 6//v6//EN
BEGIN:VEVENT
UID:5deb1bf94d5f2571c8ae8c81@squarespace.com
DTSTAMP:20191207T195633Z
DTSTART:20200507T080000Z
DTEND:20200523T110000Z
SUMMARY:The Miracle Worker
GEO:-36.838567;174.890671
LOCATION:asb waterfront theatre\, Wynyard Quarter\, Auckland\, Auckland\, N
 ew Zealand
END:VEVENT
END:VCALENDAR
