BEGIN:VCALENDAR
VERSION:2.0
PRODID:-//Squarespace Inc/Squarespace 6//v6//EN
BEGIN:VEVENT
UID:5d882ca03a08391190a37210@squarespace.com
DTSTAMP:20190923T022636Z
DTSTART:20191012T053000Z
DTEND:20191013T090000Z
SUMMARY:Meremere
GEO:-38.662334;178.017649
LOCATION:war memorial theatre\, gisborne\, new zealand
END:VEVENT
END:VCALENDAR
