BEGIN:VCALENDAR
VERSION:2.0
PRODID:-//Squarespace Inc/Squarespace 6//v6//EN
BEGIN:VEVENT
UID:5bd8aae26d2a736be050eaf6@squarespace.com
DTSTAMP:20181218T012305Z
DTSTART:20190531T080000Z
DTEND:20190608T103000Z
SUMMARY:Michael Hill International Violin Competition
GEO:-45.029601;168.660462
LOCATION:Queenstown memorial centre\, Queenstown
END:VEVENT
END:VCALENDAR
