BEGIN:VCALENDAR
VERSION:2.0
PRODID:-//Squarespace Inc/Squarespace 6//v6//EN
BEGIN:VEVENT
UID:5dec01904d5f2571c8be45a7@squarespace.com
DTSTAMP:20191207T195640Z
DTSTART:20200611T080000Z
DTEND:20200628T110000Z
SUMMARY:Master Builder
GEO:-36.838567;174.890671
LOCATION:asb waterfront theatre\, Wynyard Quarter\, Auckland\, Auckland\, N
 ew Zealand
END:VEVENT
END:VCALENDAR
