BEGIN:VCALENDAR
VERSION:2.0
PRODID:-//Squarespace Inc/Squarespace 6//v6//EN
BEGIN:VEVENT
UID:5d882402ddfd185309dc06e8@squarespace.com
DTSTAMP:20190923T015738Z
DTSTART:20191016T070000Z
DTEND:20191029T103000Z
SUMMARY:Masina Returning Home
GEO:-36.84846;174.763332
LOCATION:Auckland
END:VEVENT
END:VCALENDAR
