BEGIN:VCALENDAR
VERSION:2.0
PRODID:-//Squarespace Inc/Squarespace 6//v6//EN
BEGIN:VEVENT
UID:5c99481ae4966b2b864940f3@squarespace.com
DTSTAMP:20190414T195956Z
DTSTART:20190516T070000Z
DTEND:20190519T093000Z
SUMMARY:Madagascar  – A Musical Adventure JR
GEO:-36.787923;174.768821
LOCATION:The Rose Centre\, takapuna
END:VEVENT
END:VCALENDAR
