BEGIN:VCALENDAR
VERSION:2.0
PRODID:-//Squarespace Inc/Squarespace 6//v6//EN
BEGIN:VEVENT
UID:5cb38c9d8165f55d35db7f88@squarespace.com
DTSTAMP:20190414T194623Z
DTSTART:20190504T000000Z
DTEND:20190504T060000Z
SUMMARY:Kollywood Extra
GEO:-36.84846;174.763332
LOCATION:sandringham reserve\, Auckland\, new zealand
END:VEVENT
END:VCALENDAR
