BEGIN:VCALENDAR
VERSION:2.0
PRODID:-//Squarespace Inc/Squarespace 6//v6//EN
BEGIN:VEVENT
UID:5bd7c6e7c83025789973b228@squarespace.com
DTSTAMP:20181030T041607Z
DTSTART:20181018T063000Z
DTEND:20181018T090000Z
SUMMARY:Shh-Boom - The Koi Boys and the APO
END:VEVENT
END:VCALENDAR
