BEGIN:VCALENDAR
VERSION:2.0
PRODID:-//Squarespace Inc/Squarespace 6//v6//EN
BEGIN:VEVENT
UID:5bd636347817f7eb118f2ea5@squarespace.com
DTSTAMP:20190509T221406Z
DTSTART:20190316T143000Z
DTEND:20190317T070000Z
SUMMARY:Jelly or Jam
GEO:42.031212;-73.902307
LOCATION:The Spiegeltent\, Aotea Square
END:VEVENT
END:VCALENDAR
