BEGIN:VCALENDAR
VERSION:2.0
PRODID:-//Squarespace Inc/Squarespace 6//v6//EN
BEGIN:VEVENT
UID:5bd8a2fb0ebbe87afc2b3d99@squarespace.com
DTSTAMP:20190510T210434Z
DTSTART:20180816T080000Z
DTEND:20180816T103000Z
SUMMARY:James Morrison – a Celebration of Ella and Louis
GEO:-36.842316;174.757851
LOCATION:ASB Waterfront Theatre\, Cnr Halsey and Madden Sts\, Wynyard Quart
 er\, Auckland
END:VEVENT
END:VCALENDAR
