BEGIN:VCALENDAR
VERSION:2.0
PRODID:-//Squarespace Inc/Squarespace 6//v6//EN
BEGIN:VEVENT
UID:5cfdcf7dbea42d0001db1a45@squarespace.com
DTSTAMP:20190610T034446Z
DTSTART:20190706T053000Z
DTEND:20190706T080000Z
SUMMARY:InMotion Matariki
GEO:-36.84239;174.763325
LOCATION:Wynyard Quarter\, Te Wero Bridge\, Auckland\, Auckland\, 1010\, Ne
 w Zealand
END:VEVENT
END:VCALENDAR
