BEGIN:VCALENDAR
VERSION:2.0
PRODID:-//Squarespace Inc/Squarespace 6//v6//EN
BEGIN:VEVENT
UID:5dec031005aa792cf385c4ef@squarespace.com
DTSTAMP:20191207T195703Z
DTSTART:20201111T070000Z
DTEND:20210129T103000Z
SUMMARY:Hedwig and the Angry Inch
GEO:-36.838567;174.890671
LOCATION:asb waterfront theatre\, Wynyard Quarter\, Auckland\, Auckland\, N
 ew Zealand
END:VEVENT
END:VCALENDAR
