BEGIN:VCALENDAR
VERSION:2.0
PRODID:-//Squarespace Inc/Squarespace 6//v6//EN
BEGIN:VEVENT
UID:5dccf93a30700b6f6a9a1067@squarespace.com
DTSTAMP:20191207T195648Z
DTSTART:20200728T080000Z
DTEND:20200815T110000Z
SUMMARY:The Haka Party Incident
GEO:-36.838567;174.890671
LOCATION:asb waterfront theatre\, Wynyard Quarter\, Auckland\, Auckland\, N
 ew Zealand
END:VEVENT
END:VCALENDAR
