BEGIN:VCALENDAR
VERSION:2.0
PRODID:-//Squarespace Inc/Squarespace 6//v6//EN
BEGIN:VEVENT
UID:5bd63f94104c7b918a4b4812@squarespace.com
DTSTAMP:20190509T221543Z
DTSTART:20190321T233000Z
DTEND:20190324T020000Z
SUMMARY:Grand Finale
GEO:-36.852344;174.763146
LOCATION:ASB Theatre\, Aotea Square\, Auckland\, New Zealand
END:VEVENT
END:VCALENDAR
