BEGIN:VCALENDAR
VERSION:2.0
PRODID:-//Squarespace Inc/Squarespace 6//v6//EN
BEGIN:VEVENT
UID:5cb3913c652dea06466d8cfc@squarespace.com
DTSTAMP:20190414T200645Z
DTSTART:20190629T000000Z
DTEND:20190629T113000Z
SUMMARY:GABS 2019
GEO:-36.787923;174.768821
LOCATION:The Rose Centre\, takapuna
END:VEVENT
END:VCALENDAR
