BEGIN:VCALENDAR
VERSION:2.0
PRODID:-//Squarespace Inc/Squarespace 6//v6//EN
BEGIN:VEVENT
UID:5bd77ecd24a694825630b24e@squarespace.com
DTSTAMP:20181101T235428Z
DTSTART:20190313T063000Z
DTEND:20190313T103000Z
SUMMARY:Four Tet
GEO:-36.84846;174.763332
LOCATION:town hall\, Auckland\, New zealand
END:VEVENT
END:VCALENDAR
