BEGIN:VCALENDAR
VERSION:2.0
PRODID:-//Squarespace Inc/Squarespace 6//v6//EN
BEGIN:VEVENT
UID:5cfdd83abb03dd0001787e09@squarespace.com
DTSTAMP:20190610T041634Z
DTSTART:20190630T220000Z
DTEND:20190728T110000Z
SUMMARY:Elemental Hub - Aotea Square
GEO:-41.208077;174.902251
LOCATION:Aotea Square\, August\, new zealand
END:VEVENT
END:VCALENDAR
