BEGIN:VCALENDAR
VERSION:2.0
PRODID:-//Squarespace Inc/Squarespace 6//v6//EN
BEGIN:VEVENT
UID:5d881e90b41b640ba54fca9f@squarespace.com
DTSTAMP:20190923T014116Z
DTSTART:20191004T060000Z
DTEND:20191006T093000Z
SUMMARY:Under an East Coast Moon
GEO:-38.662334;178.017649
LOCATION:soundshell\, gisborne\, new zealand
END:VEVENT
END:VCALENDAR
