BEGIN:VCALENDAR
VERSION:2.0
PRODID:-//Squarespace Inc/Squarespace 6//v6//EN
BEGIN:VEVENT
UID:5bd656fe53450ad68f2ff52a@squarespace.com
DTSTAMP:20190302T062916Z
DTSTART:20190208T010000Z
DTEND:20190223T093000Z
SUMMARY:Daylight Atheist
GEO:-36.852763;174.763471
LOCATION:ASB Waterfront Theatre\, Wynyard Quarter\, Auckland
END:VEVENT
END:VCALENDAR
