BEGIN:VCALENDAR
VERSION:2.0
PRODID:-//Squarespace Inc/Squarespace 6//v6//EN
BEGIN:VEVENT
UID:5c8f2654ee6eb07b49deb7b5@squarespace.com
DTSTAMP:20190923T022256Z
DTSTART:20191011T070000Z
DTEND:20191012T040000Z
SUMMARY:Dawn
GEO:47.674894;-122.292774
LOCATION:ASB Theatre
END:VEVENT
END:VCALENDAR
