BEGIN:VCALENDAR
VERSION:2.0
PRODID:-//Squarespace Inc/Squarespace 6//v6//EN
BEGIN:VEVENT
UID:5c48089dcd836610282bb368@squarespace.com
DTSTAMP:20190302T063100Z
DTSTART:20190510T230000Z
DTEND:20190511T040000Z
SUMMARY:Dahlesque
GEO:-36.84846;174.763332
LOCATION:Auckland Town Hall\, Auckland
END:VEVENT
END:VCALENDAR
