BEGIN:VCALENDAR
VERSION:2.0
PRODID:-//Squarespace Inc/Squarespace 6//v6//EN
BEGIN:VEVENT
UID:5cb3908c15fcc0d49a7b69de@squarespace.com
DTSTAMP:20190430T185359Z
DTSTART:20190701T000000Z
DTEND:20190714T060000Z
SUMMARY:The Crystal Ball
GEO:-36.97938;174.855705
LOCATION:st george st\, papatoe\, Auckland\, new zealand
END:VEVENT
END:VCALENDAR
