BEGIN:VCALENDAR
VERSION:2.0
PRODID:-//Squarespace Inc/Squarespace 6//v6//EN
BEGIN:VEVENT
UID:5bd64ac9419202dce272ffa3@squarespace.com
DTSTAMP:20190509T221236Z
DTSTART:20190313T233000Z
DTEND:20190314T020000Z
SUMMARY:Camille O'Sullivan - Cave
GEO:-36.852344;174.763146
LOCATION:ASB Theatre\, Aotea Square\, Auckland
END:VEVENT
END:VCALENDAR
