BEGIN:VCALENDAR
VERSION:2.0
PRODID:-//Squarespace Inc/Squarespace 6//v6//EN
BEGIN:VEVENT
UID:5bd7db070d9297b74f3c5aa3@squarespace.com
DTSTAMP:20181030T044920Z
DTSTART:20180707T073000Z
DTEND:20180829T100000Z
SUMMARY:Cabaret de Paris
END:VEVENT
END:VCALENDAR
