BEGIN:VCALENDAR
VERSION:2.0
PRODID:-//Squarespace Inc/Squarespace 6//v6//EN
BEGIN:VEVENT
UID:5bd6471571c10b825a11974c@squarespace.com
DTSTAMP:20190509T221252Z
DTSTART:20190314T000000Z
DTEND:20190317T023000Z
SUMMARY:By Heart
GEO:-36.852763;174.763471
LOCATION:Q Theatre\, 305 Queen St\, Auckland\, New Zealand
END:VEVENT
END:VCALENDAR
